BEGIN:VCALENDAR
VERSION:2.0
PRODID:-//UNE SMART Region Incubator - ECPv4.6.10.1//NONSGML v1.0//EN
CALSCALE:GREGORIAN
METHOD:PUBLISH
X-WR-CALNAME:UNE SMART Region Incubator
X-ORIGINAL-URL:http://smartri.com.au
X-WR-CALDESC:Events for UNE SMART Region Incubator
BEGIN:VEVENT
DTSTART;TZID=Australia/Sydney:20180301T180000
DTEND;TZID=Australia/Sydney:20180301T190000
DTSTAMP:20180225T141921
CREATED:20170925T234830Z
LAST-MODIFIED:20180202T014320Z
UID:2232-1519927200-1519930800@smartri.com.au
SUMMARY:Founders Stories - Scott Hamey NE Avionics\, 'AWS Amazon Web Services' founder opportunities explained.
DESCRIPTION:Startups begin with an idea or a product. Founders are the entrepreneurs that move from idea to founding a business. At the UNE SMART Region Incubator we support our regional startups by providing the space and resources that they need to succeed in taking their idea and creating a successful business – one way to do this is to hear from those who’ve already trodden this path. \nEvery few weeks here at the UNE SMART Region Incubator\, we gather around and hear from one of our founders. This is an informal bonding session\, and a chance for our community of startups to learn more about each other’s background and how they ended up here at the SRI. \nIf you’d like to join us and hear one of our many inspiring stories\, please email admin@smartri.com.au to register your interest. \n
URL:http://smartri.com.au/event/founders-stories-2017-10-12-2018-02-01/
LOCATION:Trevenna Road\, Armidale\, NSW\, 2350\, Australia
GEO:-30.4881213;151.6414605
X-APPLE-STRUCTURED-LOCATION;VALUE=URI;X-ADDRESS=Trevenna Road Armidale NSW 2350 Australia;X-APPLE-RADIUS=500;X-TITLE=Trevenna Road:geo:151.6414605,-30.4881213
CATEGORIES:Armidale,Events - Upcoming,Founders,Tamworth
ATTACH;FMTTYPE=image/jpeg:http://smartri.com.au/wp-content/uploads/2017/09/0I2A3862-e1506406859793.jpg
ORGANIZER;CN="Liz%20Egan":MAILTO:eegan@une.edu.au
END:VEVENT
BEGIN:VEVENT
DTSTART;TZID=Australia/Sydney:20180307T170000
DTEND;TZID=Australia/Sydney:20180307T180000
DTSTAMP:20180225T141921
CREATED:20180122T050601Z
LAST-MODIFIED:20180202T015714Z
UID:3212-1520442000-1520445600@smartri.com.au
SUMMARY:SMART 101 - LinkedIn for StartUps
DESCRIPTION:\n				\n				\n				\n					\n				\n				\n				\n				\n				\n				\n				\n					If you’d like to join us and hear one of our many inspiring speakers\, please email admin@smartri.com.au to register your interest. \n				\n			 \n			 \n				\n				\n			 \n				\n			 \n
URL:http://smartri.com.au/event/smart-101/
LOCATION:Trevenna Road\, Armidale\, NSW\, 2350\, Australia
GEO:-30.4881213;151.6414605
X-APPLE-STRUCTURED-LOCATION;VALUE=URI;X-ADDRESS=Trevenna Road Armidale NSW 2350 Australia;X-APPLE-RADIUS=500;X-TITLE=Trevenna Road:geo:151.6414605,-30.4881213
CATEGORIES:Armidale,Events - Upcoming,Founders,Livestream,Tamworth
ATTACH;FMTTYPE=image/png:http://smartri.com.au/wp-content/uploads/2018/01/Screen-Shot-2018-01-22-at-4.00.54-pm.png
ORGANIZER;CN="Liz%20Egan":MAILTO:eegan@une.edu.au
END:VEVENT
BEGIN:VEVENT
DTSTART;TZID=Australia/Sydney:20180315T180000
DTEND;TZID=Australia/Sydney:20180315T190000
DTSTAMP:20180225T141921
CREATED:20170925T234830Z
LAST-MODIFIED:20180202T015519Z
UID:3234-1521136800-1521140400@smartri.com.au
SUMMARY:Founders Stories
DESCRIPTION:Startups begin with an idea or a product. Founders are the entrepreneurs that move from idea to founding a business. At the UNE SMART Region Incubator we support our regional startups by providing the space and resources that they need to succeed in taking their idea and creating a successful business – one way to do this is to hear from those who’ve already trodden this path. \nEvery few weeks here at the UNE SMART Region Incubator\, we gather around and hear from one of our founders. This is an informal bonding session\, and a chance for our community of startups to learn more about each other’s background and how they ended up here at the SRI. \nIf you’d like to join us and hear one of our many inspiring stories\, please email admin@smartri.com.au to register your interest. \n
URL:http://smartri.com.au/event/founders-stories-2017-10-12-2018-03-01-2018-03-15/2018-03-15/
LOCATION:Trevenna Road\, Armidale\, NSW\, 2350\, Australia
GEO:-30.4881213;151.6414605
X-APPLE-STRUCTURED-LOCATION;VALUE=URI;X-ADDRESS=Trevenna Road Armidale NSW 2350 Australia;X-APPLE-RADIUS=500;X-TITLE=Trevenna Road:geo:151.6414605,-30.4881213
CATEGORIES:Armidale,Events - Upcoming,Founders,Tamworth
ATTACH;FMTTYPE=image/jpeg:http://smartri.com.au/wp-content/uploads/2017/09/0I2A3862-e1506406859793.jpg
ORGANIZER;CN="Liz%20Egan":MAILTO:eegan@une.edu.au
END:VEVENT
BEGIN:VEVENT
DTSTART;TZID=Australia/Sydney:20180316T170000
DTEND;TZID=Australia/Sydney:20180317T210000
DTSTAMP:20180225T141921
CREATED:20180122T045242Z
LAST-MODIFIED:20180215T044407Z
UID:3201-1521219600-1521320400@smartri.com.au
SUMMARY:RISE - Regional Innovation. Sustainable Entrepreneurship.
DESCRIPTION:Are you in tourism? Sitting on an idea?\nRISE is a two day event that will give up to 30 individuals the opportunity to pitch their ‘brilliant idea’ for tourism innovation in regional Australia. In only three minutes\, each budding entrepreneur can present their tourism idea. Participants made up of high school students\, UNE students\, innovators\, entrepreneurs\, microbusinesses\, programmers\, regionally based tourism operators will select their favourite idea and join the team. \nUNE SRI has teamed up with Tamworth Regional Council to bring you RISE! Regional Innovation. Sustainable Entrepreneurship. \nRoll up your sleeves for a design thinking\, sprint and pitch! \nMORE INFORMATION AND TO REGISTER HERE \n
URL:http://smartri.com.au/event/smart-region-tourism-startup-weekend/
LOCATION:24 Fitzroy Street\, Tamworth\, NSW\, 2340\, Australia
GEO:-31.091087;150.9311632
X-APPLE-STRUCTURED-LOCATION;VALUE=URI;X-ADDRESS=24 Fitzroy Street Tamworth NSW 2340 Australia;X-APPLE-RADIUS=500;X-TITLE=24 Fitzroy Street:geo:150.9311632,-31.091087
CATEGORIES:Events - Upcoming,Founders,Innovation Partner,Members,Mentors,Tamworth
ATTACH;FMTTYPE=image/png:http://smartri.com.au/wp-content/uploads/2018/02/SRI_rise-1.png
ORGANIZER;CN="Liz%20Egan":MAILTO:eegan@une.edu.au
END:VEVENT
BEGIN:VEVENT
DTSTART;TZID=Australia/Sydney:20180329T180000
DTEND;TZID=Australia/Sydney:20180329T190000
DTSTAMP:20180225T141921
CREATED:20170925T234830Z
LAST-MODIFIED:20180202T015519Z
UID:3235-1522346400-1522350000@smartri.com.au
SUMMARY:Founders Stories
DESCRIPTION:Startups begin with an idea or a product. Founders are the entrepreneurs that move from idea to founding a business. At the UNE SMART Region Incubator we support our regional startups by providing the space and resources that they need to succeed in taking their idea and creating a successful business – one way to do this is to hear from those who’ve already trodden this path. \nEvery few weeks here at the UNE SMART Region Incubator\, we gather around and hear from one of our founders. This is an informal bonding session\, and a chance for our community of startups to learn more about each other’s background and how they ended up here at the SRI. \nIf you’d like to join us and hear one of our many inspiring stories\, please email admin@smartri.com.au to register your interest. \n
URL:http://smartri.com.au/event/founders-stories-2017-10-12-2018-03-01-2018-03-15/2018-03-29/
LOCATION:Trevenna Road\, Armidale\, NSW\, 2350\, Australia
GEO:-30.4881213;151.6414605
X-APPLE-STRUCTURED-LOCATION;VALUE=URI;X-ADDRESS=Trevenna Road Armidale NSW 2350 Australia;X-APPLE-RADIUS=500;X-TITLE=Trevenna Road:geo:151.6414605,-30.4881213
CATEGORIES:Armidale,Events - Upcoming,Founders,Tamworth
ATTACH;FMTTYPE=image/jpeg:http://smartri.com.au/wp-content/uploads/2017/09/0I2A3862-e1506406859793.jpg
ORGANIZER;CN="Liz%20Egan":MAILTO:eegan@une.edu.au
END:VEVENT
BEGIN:VEVENT
DTSTART;TZID=Australia/Sydney:20180404T180000
DTEND;TZID=Australia/Sydney:20180404T190000
DTSTAMP:20180225T141921
CREATED:20180122T050601Z
LAST-MODIFIED:20180122T051018Z
UID:3214-1522864800-1522868400@smartri.com.au
SUMMARY:SMART 101
DESCRIPTION:
URL:http://smartri.com.au/event/smart-101-2018-04-07/
LOCATION:Trevenna Road\, Armidale\, NSW\, 2350\, Australia
GEO:-30.4881213;151.6414605
X-APPLE-STRUCTURED-LOCATION;VALUE=URI;X-ADDRESS=Trevenna Road Armidale NSW 2350 Australia;X-APPLE-RADIUS=500;X-TITLE=Trevenna Road:geo:151.6414605,-30.4881213
CATEGORIES:Armidale,Founders
ATTACH;FMTTYPE=image/png:http://smartri.com.au/wp-content/uploads/2018/01/Screen-Shot-2018-01-22-at-4.00.54-pm.png
ORGANIZER;CN="Liz%20Egan":MAILTO:eegan@une.edu.au
END:VEVENT
BEGIN:VEVENT
DTSTART;TZID=Australia/Sydney:20180412T180000
DTEND;TZID=Australia/Sydney:20180412T190000
DTSTAMP:20180225T141921
CREATED:20170925T234830Z
LAST-MODIFIED:20180202T015519Z
UID:3236-1523556000-1523559600@smartri.com.au
SUMMARY:Founders Stories
DESCRIPTION:Startups begin with an idea or a product. Founders are the entrepreneurs that move from idea to founding a business. At the UNE SMART Region Incubator we support our regional startups by providing the space and resources that they need to succeed in taking their idea and creating a successful business – one way to do this is to hear from those who’ve already trodden this path. \nEvery few weeks here at the UNE SMART Region Incubator\, we gather around and hear from one of our founders. This is an informal bonding session\, and a chance for our community of startups to learn more about each other’s background and how they ended up here at the SRI. \nIf you’d like to join us and hear one of our many inspiring stories\, please email admin@smartri.com.au to register your interest. \n
URL:http://smartri.com.au/event/founders-stories-2017-10-12-2018-03-01-2018-03-15/2018-04-12/
LOCATION:Trevenna Road\, Armidale\, NSW\, 2350\, Australia
GEO:-30.4881213;151.6414605
X-APPLE-STRUCTURED-LOCATION;VALUE=URI;X-ADDRESS=Trevenna Road Armidale NSW 2350 Australia;X-APPLE-RADIUS=500;X-TITLE=Trevenna Road:geo:151.6414605,-30.4881213
CATEGORIES:Armidale,Events - Upcoming,Founders,Tamworth
ATTACH;FMTTYPE=image/jpeg:http://smartri.com.au/wp-content/uploads/2017/09/0I2A3862-e1506406859793.jpg
ORGANIZER;CN="Liz%20Egan":MAILTO:eegan@une.edu.au
END:VEVENT
BEGIN:VEVENT
DTSTART;TZID=Australia/Sydney:20180426T180000
DTEND;TZID=Australia/Sydney:20180426T190000
DTSTAMP:20180225T141921
CREATED:20170925T234830Z
LAST-MODIFIED:20180202T015519Z
UID:3237-1524765600-1524769200@smartri.com.au
SUMMARY:Founders Stories
DESCRIPTION:Startups begin with an idea or a product. Founders are the entrepreneurs that move from idea to founding a business. At the UNE SMART Region Incubator we support our regional startups by providing the space and resources that they need to succeed in taking their idea and creating a successful business – one way to do this is to hear from those who’ve already trodden this path. \nEvery few weeks here at the UNE SMART Region Incubator\, we gather around and hear from one of our founders. This is an informal bonding session\, and a chance for our community of startups to learn more about each other’s background and how they ended up here at the SRI. \nIf you’d like to join us and hear one of our many inspiring stories\, please email admin@smartri.com.au to register your interest. \n
URL:http://smartri.com.au/event/founders-stories-2017-10-12-2018-03-01-2018-03-15/2018-04-26/
LOCATION:Trevenna Road\, Armidale\, NSW\, 2350\, Australia
GEO:-30.4881213;151.6414605
X-APPLE-STRUCTURED-LOCATION;VALUE=URI;X-ADDRESS=Trevenna Road Armidale NSW 2350 Australia;X-APPLE-RADIUS=500;X-TITLE=Trevenna Road:geo:151.6414605,-30.4881213
CATEGORIES:Armidale,Events - Upcoming,Founders,Tamworth
ATTACH;FMTTYPE=image/jpeg:http://smartri.com.au/wp-content/uploads/2017/09/0I2A3862-e1506406859793.jpg
ORGANIZER;CN="Liz%20Egan":MAILTO:eegan@une.edu.au
END:VEVENT
BEGIN:VEVENT
DTSTART;TZID=Australia/Sydney:20180502T180000
DTEND;TZID=Australia/Sydney:20180502T190000
DTSTAMP:20180225T141921
CREATED:20180122T050601Z
LAST-MODIFIED:20180122T051122Z
UID:3215-1525284000-1525287600@smartri.com.au
SUMMARY:SMART 101
DESCRIPTION:
URL:http://smartri.com.au/event/smart-101-2018-05-07/
LOCATION:Trevenna Road\, Armidale\, NSW\, 2350\, Australia
GEO:-30.4881213;151.6414605
X-APPLE-STRUCTURED-LOCATION;VALUE=URI;X-ADDRESS=Trevenna Road Armidale NSW 2350 Australia;X-APPLE-RADIUS=500;X-TITLE=Trevenna Road:geo:151.6414605,-30.4881213
CATEGORIES:Armidale,Founders
ATTACH;FMTTYPE=image/png:http://smartri.com.au/wp-content/uploads/2018/01/Screen-Shot-2018-01-22-at-4.00.54-pm.png
ORGANIZER;CN="Liz%20Egan":MAILTO:eegan@une.edu.au
END:VEVENT
BEGIN:VEVENT
DTSTART;TZID=Australia/Sydney:20180510T180000
DTEND;TZID=Australia/Sydney:20180510T190000
DTSTAMP:20180225T141921
CREATED:20170925T234830Z
LAST-MODIFIED:20180202T015519Z
UID:3238-1525975200-1525978800@smartri.com.au
SUMMARY:Founders Stories
DESCRIPTION:Startups begin with an idea or a product. Founders are the entrepreneurs that move from idea to founding a business. At the UNE SMART Region Incubator we support our regional startups by providing the space and resources that they need to succeed in taking their idea and creating a successful business – one way to do this is to hear from those who’ve already trodden this path. \nEvery few weeks here at the UNE SMART Region Incubator\, we gather around and hear from one of our founders. This is an informal bonding session\, and a chance for our community of startups to learn more about each other’s background and how they ended up here at the SRI. \nIf you’d like to join us and hear one of our many inspiring stories\, please email admin@smartri.com.au to register your interest. \n
URL:http://smartri.com.au/event/founders-stories-2017-10-12-2018-03-01-2018-03-15/2018-05-10/
LOCATION:Trevenna Road\, Armidale\, NSW\, 2350\, Australia
GEO:-30.4881213;151.6414605
X-APPLE-STRUCTURED-LOCATION;VALUE=URI;X-ADDRESS=Trevenna Road Armidale NSW 2350 Australia;X-APPLE-RADIUS=500;X-TITLE=Trevenna Road:geo:151.6414605,-30.4881213
CATEGORIES:Armidale,Events - Upcoming,Founders,Tamworth
ATTACH;FMTTYPE=image/jpeg:http://smartri.com.au/wp-content/uploads/2017/09/0I2A3862-e1506406859793.jpg
ORGANIZER;CN="Liz%20Egan":MAILTO:eegan@une.edu.au
END:VEVENT
BEGIN:VEVENT
DTSTART;TZID=Australia/Sydney:20180524T180000
DTEND;TZID=Australia/Sydney:20180524T190000
DTSTAMP:20180225T141921
CREATED:20170925T234830Z
LAST-MODIFIED:20180202T015519Z
UID:3239-1527184800-1527188400@smartri.com.au
SUMMARY:Founders Stories
DESCRIPTION:Startups begin with an idea or a product. Founders are the entrepreneurs that move from idea to founding a business. At the UNE SMART Region Incubator we support our regional startups by providing the space and resources that they need to succeed in taking their idea and creating a successful business – one way to do this is to hear from those who’ve already trodden this path. \nEvery few weeks here at the UNE SMART Region Incubator\, we gather around and hear from one of our founders. This is an informal bonding session\, and a chance for our community of startups to learn more about each other’s background and how they ended up here at the SRI. \nIf you’d like to join us and hear one of our many inspiring stories\, please email admin@smartri.com.au to register your interest. \n
URL:http://smartri.com.au/event/founders-stories-2017-10-12-2018-03-01-2018-03-15/2018-05-24/
LOCATION:Trevenna Road\, Armidale\, NSW\, 2350\, Australia
GEO:-30.4881213;151.6414605
X-APPLE-STRUCTURED-LOCATION;VALUE=URI;X-ADDRESS=Trevenna Road Armidale NSW 2350 Australia;X-APPLE-RADIUS=500;X-TITLE=Trevenna Road:geo:151.6414605,-30.4881213
CATEGORIES:Armidale,Events - Upcoming,Founders,Tamworth
ATTACH;FMTTYPE=image/jpeg:http://smartri.com.au/wp-content/uploads/2017/09/0I2A3862-e1506406859793.jpg
ORGANIZER;CN="Liz%20Egan":MAILTO:eegan@une.edu.au
END:VEVENT
BEGIN:VEVENT
DTSTART;TZID=Australia/Sydney:20180530T180000
DTEND;TZID=Australia/Sydney:20180530T190000
DTSTAMP:20180225T141921
CREATED:20180122T050601Z
LAST-MODIFIED:20180122T051335Z
UID:3216-1527703200-1527706800@smartri.com.au
SUMMARY:SMART 101
DESCRIPTION:
URL:http://smartri.com.au/event/smart-101-2018-06-07/
LOCATION:Trevenna Road\, Armidale\, NSW\, 2350\, Australia
GEO:-30.4881213;151.6414605
X-APPLE-STRUCTURED-LOCATION;VALUE=URI;X-ADDRESS=Trevenna Road Armidale NSW 2350 Australia;X-APPLE-RADIUS=500;X-TITLE=Trevenna Road:geo:151.6414605,-30.4881213
CATEGORIES:Armidale,Founders
ATTACH;FMTTYPE=image/png:http://smartri.com.au/wp-content/uploads/2018/01/Screen-Shot-2018-01-22-at-4.00.54-pm.png
ORGANIZER;CN="Liz%20Egan":MAILTO:eegan@une.edu.au
END:VEVENT
BEGIN:VEVENT
DTSTART;TZID=Australia/Sydney:20180607T180000
DTEND;TZID=Australia/Sydney:20180607T190000
DTSTAMP:20180225T141921
CREATED:20170925T234830Z
LAST-MODIFIED:20180202T015519Z
UID:3240-1528394400-1528398000@smartri.com.au
SUMMARY:Founders Stories
DESCRIPTION:Startups begin with an idea or a product. Founders are the entrepreneurs that move from idea to founding a business. At the UNE SMART Region Incubator we support our regional startups by providing the space and resources that they need to succeed in taking their idea and creating a successful business – one way to do this is to hear from those who’ve already trodden this path. \nEvery few weeks here at the UNE SMART Region Incubator\, we gather around and hear from one of our founders. This is an informal bonding session\, and a chance for our community of startups to learn more about each other’s background and how they ended up here at the SRI. \nIf you’d like to join us and hear one of our many inspiring stories\, please email admin@smartri.com.au to register your interest. \n
URL:http://smartri.com.au/event/founders-stories-2017-10-12-2018-03-01-2018-03-15/2018-06-07/
LOCATION:Trevenna Road\, Armidale\, NSW\, 2350\, Australia
GEO:-30.4881213;151.6414605
X-APPLE-STRUCTURED-LOCATION;VALUE=URI;X-ADDRESS=Trevenna Road Armidale NSW 2350 Australia;X-APPLE-RADIUS=500;X-TITLE=Trevenna Road:geo:151.6414605,-30.4881213
CATEGORIES:Armidale,Events - Upcoming,Founders,Tamworth
ATTACH;FMTTYPE=image/jpeg:http://smartri.com.au/wp-content/uploads/2017/09/0I2A3862-e1506406859793.jpg
ORGANIZER;CN="Liz%20Egan":MAILTO:eegan@une.edu.au
END:VEVENT
BEGIN:VEVENT
DTSTART;TZID=Australia/Sydney:20180621T180000
DTEND;TZID=Australia/Sydney:20180621T190000
DTSTAMP:20180225T141921
CREATED:20170925T234830Z
LAST-MODIFIED:20180202T015519Z
UID:3241-1529604000-1529607600@smartri.com.au
SUMMARY:Founders Stories
DESCRIPTION:Startups begin with an idea or a product. Founders are the entrepreneurs that move from idea to founding a business. At the UNE SMART Region Incubator we support our regional startups by providing the space and resources that they need to succeed in taking their idea and creating a successful business – one way to do this is to hear from those who’ve already trodden this path. \nEvery few weeks here at the UNE SMART Region Incubator\, we gather around and hear from one of our founders. This is an informal bonding session\, and a chance for our community of startups to learn more about each other’s background and how they ended up here at the SRI. \nIf you’d like to join us and hear one of our many inspiring stories\, please email admin@smartri.com.au to register your interest. \n
URL:http://smartri.com.au/event/founders-stories-2017-10-12-2018-03-01-2018-03-15/2018-06-21/
LOCATION:Trevenna Road\, Armidale\, NSW\, 2350\, Australia
GEO:-30.4881213;151.6414605
X-APPLE-STRUCTURED-LOCATION;VALUE=URI;X-ADDRESS=Trevenna Road Armidale NSW 2350 Australia;X-APPLE-RADIUS=500;X-TITLE=Trevenna Road:geo:151.6414605,-30.4881213
CATEGORIES:Armidale,Events - Upcoming,Founders,Tamworth
ATTACH;FMTTYPE=image/jpeg:http://smartri.com.au/wp-content/uploads/2017/09/0I2A3862-e1506406859793.jpg
ORGANIZER;CN="Liz%20Egan":MAILTO:eegan@une.edu.au
END:VEVENT
BEGIN:VEVENT
DTSTART;TZID=Australia/Sydney:20180705T180000
DTEND;TZID=Australia/Sydney:20180705T190000
DTSTAMP:20180225T141921
CREATED:20170925T234830Z
LAST-MODIFIED:20180202T015519Z
UID:3242-1530813600-1530817200@smartri.com.au
SUMMARY:Founders Stories
DESCRIPTION:Startups begin with an idea or a product. Founders are the entrepreneurs that move from idea to founding a business. At the UNE SMART Region Incubator we support our regional startups by providing the space and resources that they need to succeed in taking their idea and creating a successful business – one way to do this is to hear from those who’ve already trodden this path. \nEvery few weeks here at the UNE SMART Region Incubator\, we gather around and hear from one of our founders. This is an informal bonding session\, and a chance for our community of startups to learn more about each other’s background and how they ended up here at the SRI. \nIf you’d like to join us and hear one of our many inspiring stories\, please email admin@smartri.com.au to register your interest. \n
URL:http://smartri.com.au/event/founders-stories-2017-10-12-2018-03-01-2018-03-15/2018-07-05/
LOCATION:Trevenna Road\, Armidale\, NSW\, 2350\, Australia
GEO:-30.4881213;151.6414605
X-APPLE-STRUCTURED-LOCATION;VALUE=URI;X-ADDRESS=Trevenna Road Armidale NSW 2350 Australia;X-APPLE-RADIUS=500;X-TITLE=Trevenna Road:geo:151.6414605,-30.4881213
CATEGORIES:Armidale,Events - Upcoming,Founders,Tamworth
ATTACH;FMTTYPE=image/jpeg:http://smartri.com.au/wp-content/uploads/2017/09/0I2A3862-e1506406859793.jpg
ORGANIZER;CN="Liz%20Egan":MAILTO:eegan@une.edu.au
END:VEVENT
BEGIN:VEVENT
DTSTART;TZID=Australia/Sydney:20180711T180000
DTEND;TZID=Australia/Sydney:20180711T190000
DTSTAMP:20180225T141921
CREATED:20180122T050601Z
LAST-MODIFIED:20180122T051415Z
UID:3217-1531332000-1531335600@smartri.com.au
SUMMARY:SMART 101
DESCRIPTION:
URL:http://smartri.com.au/event/smart-101-2018-07-07/
LOCATION:Trevenna Road\, Armidale\, NSW\, 2350\, Australia
GEO:-30.4881213;151.6414605
X-APPLE-STRUCTURED-LOCATION;VALUE=URI;X-ADDRESS=Trevenna Road Armidale NSW 2350 Australia;X-APPLE-RADIUS=500;X-TITLE=Trevenna Road:geo:151.6414605,-30.4881213
CATEGORIES:Armidale,Founders
ATTACH;FMTTYPE=image/png:http://smartri.com.au/wp-content/uploads/2018/01/Screen-Shot-2018-01-22-at-4.00.54-pm.png
ORGANIZER;CN="Liz%20Egan":MAILTO:eegan@une.edu.au
END:VEVENT
BEGIN:VEVENT
DTSTART;TZID=Australia/Sydney:20180719T180000
DTEND;TZID=Australia/Sydney:20180719T190000
DTSTAMP:20180225T141921
CREATED:20170925T234830Z
LAST-MODIFIED:20180202T015519Z
UID:3243-1532023200-1532026800@smartri.com.au
SUMMARY:Founders Stories
DESCRIPTION:Startups begin with an idea or a product. Founders are the entrepreneurs that move from idea to founding a business. At the UNE SMART Region Incubator we support our regional startups by providing the space and resources that they need to succeed in taking their idea and creating a successful business – one way to do this is to hear from those who’ve already trodden this path. \nEvery few weeks here at the UNE SMART Region Incubator\, we gather around and hear from one of our founders. This is an informal bonding session\, and a chance for our community of startups to learn more about each other’s background and how they ended up here at the SRI. \nIf you’d like to join us and hear one of our many inspiring stories\, please email admin@smartri.com.au to register your interest. \n
URL:http://smartri.com.au/event/founders-stories-2017-10-12-2018-03-01-2018-03-15/2018-07-19/
LOCATION:Trevenna Road\, Armidale\, NSW\, 2350\, Australia
GEO:-30.4881213;151.6414605
X-APPLE-STRUCTURED-LOCATION;VALUE=URI;X-ADDRESS=Trevenna Road Armidale NSW 2350 Australia;X-APPLE-RADIUS=500;X-TITLE=Trevenna Road:geo:151.6414605,-30.4881213
CATEGORIES:Armidale,Events - Upcoming,Founders,Tamworth
ATTACH;FMTTYPE=image/jpeg:http://smartri.com.au/wp-content/uploads/2017/09/0I2A3862-e1506406859793.jpg
ORGANIZER;CN="Liz%20Egan":MAILTO:eegan@une.edu.au
END:VEVENT
BEGIN:VEVENT
DTSTART;TZID=UTC+10:20180728T073000
DTEND;TZID=UTC+10:20180728T190000
DTSTAMP:20180225T141921
CREATED:20180122T042028Z
LAST-MODIFIED:20180122T042207Z
UID:3195-1532763000-1532804400@smartri.com.au
SUMMARY:Agmentation 2018
DESCRIPTION:UNE SMART Region Incubator\, together with Cisco Technical are holding their second Agmentation on Saturday 28th July at the UNE SMART Farm. Agmentation 2018 is the continuation of the highly successful inaugural event in 2017\, which will take a similar deep-dive on solutions to the challenges that keep farmers awake at night. \n
URL:http://smartri.com.au/event/agmentation-2018/
LOCATION:Weirs Road\, Armidale\, New South Wales\, 2350\, Australia
GEO:-30.4625435;151.626135
X-APPLE-STRUCTURED-LOCATION;VALUE=URI;X-ADDRESS=Weirs Road Armidale New South Wales 2350 Australia;X-APPLE-RADIUS=500;X-TITLE=Weirs Road:geo:151.626135,-30.4625435
CATEGORIES:Armidale,Events - Upcoming,Founders,Innovation Partner,Mentors
ATTACH;FMTTYPE=image/png:http://smartri.com.au/wp-content/uploads/2017/06/Agmentation_logox400.png
ORGANIZER;CN="Liz%20Egan":MAILTO:eegan@une.edu.au
END:VEVENT
BEGIN:VEVENT
DTSTART;TZID=Australia/Sydney:20180808T180000
DTEND;TZID=Australia/Sydney:20180808T190000
DTSTAMP:20180225T141921
CREATED:20180122T050601Z
LAST-MODIFIED:20180122T051606Z
UID:3218-1533751200-1533754800@smartri.com.au
SUMMARY:SMART 101
DESCRIPTION:
URL:http://smartri.com.au/event/smart-101-2018-08-07/
LOCATION:Trevenna Road\, Armidale\, NSW\, 2350\, Australia
GEO:-30.4881213;151.6414605
X-APPLE-STRUCTURED-LOCATION;VALUE=URI;X-ADDRESS=Trevenna Road Armidale NSW 2350 Australia;X-APPLE-RADIUS=500;X-TITLE=Trevenna Road:geo:151.6414605,-30.4881213
CATEGORIES:Armidale,Founders
ATTACH;FMTTYPE=image/png:http://smartri.com.au/wp-content/uploads/2018/01/Screen-Shot-2018-01-22-at-4.00.54-pm.png
ORGANIZER;CN="Liz%20Egan":MAILTO:eegan@une.edu.au
END:VEVENT
BEGIN:VEVENT
DTSTART;TZID=Australia/Sydney:20180905T180000
DTEND;TZID=Australia/Sydney:20180905T190000
DTSTAMP:20180225T141921
CREATED:20180122T050601Z
LAST-MODIFIED:20180122T051633Z
UID:3219-1536170400-1536174000@smartri.com.au
SUMMARY:SMART 101
DESCRIPTION:
URL:http://smartri.com.au/event/smart-101-2018-09-07/
LOCATION:Trevenna Road\, Armidale\, NSW\, 2350\, Australia
GEO:-30.4881213;151.6414605
X-APPLE-STRUCTURED-LOCATION;VALUE=URI;X-ADDRESS=Trevenna Road Armidale NSW 2350 Australia;X-APPLE-RADIUS=500;X-TITLE=Trevenna Road:geo:151.6414605,-30.4881213
CATEGORIES:Armidale,Founders
ATTACH;FMTTYPE=image/png:http://smartri.com.au/wp-content/uploads/2018/01/Screen-Shot-2018-01-22-at-4.00.54-pm.png
ORGANIZER;CN="Liz%20Egan":MAILTO:eegan@une.edu.au
END:VEVENT
BEGIN:VEVENT
DTSTART;TZID=Australia/Sydney:20181003T180000
DTEND;TZID=Australia/Sydney:20181003T190000
DTSTAMP:20180225T141921
CREATED:20180122T050601Z
LAST-MODIFIED:20180122T051729Z
UID:3220-1538589600-1538593200@smartri.com.au
SUMMARY:SMART 101
DESCRIPTION:
URL:http://smartri.com.au/event/smart-101-2018-10-07/
LOCATION:Trevenna Road\, Armidale\, NSW\, 2350\, Australia
GEO:-30.4881213;151.6414605
X-APPLE-STRUCTURED-LOCATION;VALUE=URI;X-ADDRESS=Trevenna Road Armidale NSW 2350 Australia;X-APPLE-RADIUS=500;X-TITLE=Trevenna Road:geo:151.6414605,-30.4881213
CATEGORIES:Armidale,Founders
ATTACH;FMTTYPE=image/png:http://smartri.com.au/wp-content/uploads/2018/01/Screen-Shot-2018-01-22-at-4.00.54-pm.png
ORGANIZER;CN="Liz%20Egan":MAILTO:eegan@une.edu.au
END:VEVENT
BEGIN:VEVENT
DTSTART;TZID=Australia/Sydney:20181107T180000
DTEND;TZID=Australia/Sydney:20181107T190000
DTSTAMP:20180225T141921
CREATED:20180122T050601Z
LAST-MODIFIED:20180202T013426Z
UID:3221-1541613600-1541617200@smartri.com.au
SUMMARY:SMART 101
DESCRIPTION:
URL:http://smartri.com.au/event/smart-101-2018-11-07/2018-11-07/
LOCATION:Trevenna Road\, Armidale\, NSW\, 2350\, Australia
GEO:-30.4881213;151.6414605
X-APPLE-STRUCTURED-LOCATION;VALUE=URI;X-ADDRESS=Trevenna Road Armidale NSW 2350 Australia;X-APPLE-RADIUS=500;X-TITLE=Trevenna Road:geo:151.6414605,-30.4881213
CATEGORIES:Armidale,Founders
ATTACH;FMTTYPE=image/png:http://smartri.com.au/wp-content/uploads/2018/01/Screen-Shot-2018-01-22-at-4.00.54-pm.png
ORGANIZER;CN="Liz%20Egan":MAILTO:eegan@une.edu.au
END:VEVENT
END:VCALENDAR